Workbook

Sheet Dashboard
B2: MASTER-DOKUMENTENREGISTER · ISO 14001:2026
B4: Branchenneutraler Aufbau eines auditfesten Umweltmanagementsystems – Fahrplan & Statusübersicht
B6: Dokumente gesamt | D6: Kapitel (ISO 14001) | F6: Priorität Hoch | H6: Status: Offen
B7: =COUNTA(Dokumentenregister!$B$4:$B$250) -> 163 | D7: =COUNTIF(Dokumentenregister!$A$4:$A$250,"KAP*") -> 8 | F7: =COUNTIF(Dokumentenregister!$F$4:$F$250,"Hoch") -> 87 | H7: =COUNTIF(Dokumentenregister!$G$4:$G$250,"*Offen*") -> 0
B9: =COUNTIF(Dokumentenregister!$G$4:$G$250,"*Fertig*") -> 163 | D9: =COUNTIF(Dokumentenregister!$G$4:$G$250,"*Arbeit*") -> 0 | F9: =TEXT(COUNTIF(Dokumentenregister!$G$4:$G$250,"*Fertig*")/COUNTA(Dokumentenregister!$B$4:$B$250),"0%") -> 100%
B10: Status: Erledigt | D10: Status: In Bearbeitung | F10: Fortschritt gesamt
B11: ISO-Kapitel | C11: Titel | D11: Anzahl Dokumente | E11: davon Priorität Hoch
B12: KAP. U0 | C12: Übergeordnete Systemdokumente (kapitelübergreifend) | D12: =COUNTIF(Dokumentenregister!$J$4:$J$250,"U0") -> 5 | E12: =COUNTIFS(Dokumentenregister!$J$4:$J$250,"U0",Dokumentenregister!$F$4:$F$250,"Hoch") -> 2
B13: KAP. U4 | C13: Kontext der Organisation | D13: =COUNTIF(Dokumentenregister!$J$4:$J$250,"U4") -> 13 | E13: =COUNTIFS(Dokumentenregister!$J$4:$J$250,"U4",Dokumentenregister!$F$4:$F$250,"Hoch") -> 7
B14: KAP. U5 | C14: Führung | D14: =COUNTIF(Dokumentenregister!$J$4:$J$250,"U5") -> 9 | E14: =COUNTIFS(Dokumentenregister!$J$4:$J$250,"U5",Dokumentenregister!$F$4:$F$250,"Hoch") -> 5
B15: KAP. U6 | C15: Planung (Umweltaspekte, Rechtskataster, Risiken/Chancen, Ziele) | D15: =COUNTIF(Dokumentenregister!$J$4:$J$250,"U6") -> 23 | E15: =COUNTIFS(Dokumentenregister!$J$4:$J$250,"U6",Dokumentenregister!$F$4:$F$250,"Hoch") -> 15
B16: KAP. U7 | C16: Unterstützung (Ressourcen, Schulung, Kommunikation, Dokumentenlenkung) | D16: =COUNTIF(Dokumentenregister!$J$4:$J$250,"U7") -> 32 | E16: =COUNTIFS(Dokumentenregister!$J$4:$J$250,"U7",Dokumentenregister!$F$4:$F$250,"Hoch") -> 11
B17: KAP. U8 | C17: Betrieb (Energie, Abfall, Wasser, Gefahrstoffe, Emissionen, Notfall, Lieferanten) | D17: =COUNTIF(Dokumentenregister!$J$4:$J$250,"U8") -> 45 | E17: =COUNTIFS(Dokumentenregister!$J$4:$J$250,"U8",Dokumentenregister!$F$4:$F$250,"Hoch") -> 28
B18: KAP. U9 | C18: Bewertung der Leistung (Monitoring, Compliance, Audit, Managementbewertung) | D18: =COUNTIF(Dokumentenregister!$J$4:$J$250,"U9") -> 29 | E18: =COUNTIFS(Dokumentenregister!$J$4:$J$250,"U9",Dokumentenregister!$F$4:$F$250,"Hoch") -> 16
B19: KAP. U10 | C19: Verbesserung | D19: =COUNTIF(Dokumentenregister!$J$4:$J$250,"U10") -> 7 | E19: =COUNTIFS(Dokumentenregister!$J$4:$J$250,"U10",Dokumentenregister!$F$4:$F$250,"Hoch") -> 3
B22: Hinweis: Diese Liste ist branchenneutral und deckt den vollständigen Anforderungskatalog von ISO 14001:2026 (Kap. 4-10, High-Level-Structure) ab, inkl. der auf Wunsch ergänzten Praxisdokumente (Rechtsänderungsbewertung, Umweltprogramm, Investitionsbewertung, Lieferantenanforderungen Umwelt, Umweltvorfallmeldung, spezifische Umweltinspektion, Lebenswegbetrachtung) – siehe Bemerkung-Spalte. Alle Kacheln und die Kapitelübersicht sind live mit dem Arbeitsblatt 'Dokumentenregister' verknüpft (Spalte J extrahiert die Kapitel-Kennung aus der Dok.-Nr.) und aktualisieren sich automatisch, sobald ein Status geändert wird. Details siehe Sheet 'Dokumentenregister' und 'Legende & Hinweise'. Stand 16.10.2026: abgeglichen mit der veröffentlichten DIN EN ISO 14001:2026-06 – 8 neue Pflicht-/Lückendokumente und 7 terminologische Überarbeitungen (🟡 In Arbeit), Herleitung siehe Sheet 'Normabgleich 2026'; zusätzlich Paketerweiterung um 24 Praxisdokumente und 12 Schulungspräsentationen (PPT).

Sheet Dokumentenregister
A1: DOKUMENTENREGISTER – ISO 14001:2026 (BRANCHENNEUTRAL)
A2: Verfahrensanweisungen (VA) · Politik & Ziele (PO) · Checklisten (CL) · Excel-Tools (XL) · Formulare (FB) · Richtlinien/Vorschriften (RL) · Handbuch (HB) · Präsentationen (PPT)
A3: Lfd.Nr. | B3: Dok.-Nr. | C3: Typ | D3: Dokumentbezeichnung | E3: ISO-14001-Kap.-Bezug | F3: Priorität | G3: Status | H3: Verantwortlich | I3: Bemerkung | J3: Kap.-ID
A4: KAP. U0 — Übergeordnete Systemdokumente
A5: 1 | B5: HB-U0-01 | C5: HB | D5: Umweltmanagement-Handbuch (inkl. Broschüre für Stakeholder) | E5: 4-10 | F5: Hoch | G5: 🟢 Fertig | J5: =MID(B5,FIND("-",B5)+1,FIND("-",B5,FIND("-",B5)+1)-FIND("-",B5)-1) -> U0
A6: 2 | B6: XL-U0-01 | C6: XL | D6: Umstellungs-Check ISO 14001:2015 → 2026 (Gap-Analyse) | E6: 4-10 | F6: Hoch | G6: 🟢 Fertig | I6: Kostenlos verfügbar | J6: =MID(B6,FIND("-",B6)+1,FIND("-",B6,FIND("-",B6)+1)-FIND("-",B6)-1) -> U0
A7: 3 | B7: XL-U0-02 | C7: XL | D7: Implementierungs- und Zertifizierungsfahrplan UMS | E7: 4-10 | F7: Mittel | G7: 🟢 Fertig | J7: =MID(B7,FIND("-",B7)+1,FIND("-",B7,FIND("-",B7)+1)-FIND("-",B7)-1) -> U0
A8: 4 | B8: CL-U0-01 | C8: CL | D8: Zertifizierungsreife-Check UMS | E8: 4-10 | F8: Mittel | G8: 🟢 Fertig | J8: =MID(B8,FIND("-",B8)+1,FIND("-",B8,FIND("-",B8)+1)-FIND("-",B8)-1) -> U0
A9: 5 | B9: XL-U0-03 | C9: XL | D9: Korrelationsmatrix ISO 14001 / ISO 9001 / ISO 50001 / ISO 45001 | E9: 4-10 | F9: Mittel | G9: 🟢 Fertig | J9: =MID(B9,FIND("-",B9)+1,FIND("-",B9,FIND("-",B9)+1)-FIND("-",B9)-1) -> U0
A10: KAP. U4 — Kontext der Organisation
A11: 6 | B11: RL-U4-01 | C11: RL | D11: Geltungsbereich / Anwendungsbereich des UMS (Scope-Dokument) | E11: 4.3 | F11: Hoch | G11: 🟢 Fertig | J11: =MID(B11,FIND("-",B11)+1,FIND("-",B11,FIND("-",B11)+1)-FIND("-",B11)-1) -> U4
A12: 7 | B12: XL-U4-01 | C12: XL | D12: Kontextanalyse & Stakeholderregister (interessierte Parteien) | E12: 4.1 / 4.2 | F12: Hoch | G12: 🟢 Fertig | J12: =MID(B12,FIND("-",B12)+1,FIND("-",B12,FIND("-",B12)+1)-FIND("-",B12)-1) -> U4
A13: 8 | B13: XL-U4-02 | C13: XL | D13: Umweltkontextanalyse (synthetisierende Analyse) | E13: 4.1 – 4.3 | F13: Mittel | G13: 🟢 Fertig | J13: =MID(B13,FIND("-",B13)+1,FIND("-",B13,FIND("-",B13)+1)-FIND("-",B13)-1) -> U4
A14: 9 | B14: XL-U4-03 | C14: XL | D14: Klimarisikoanalyse | E14: 4.1 / 6.1.4 | F14: Hoch | G14: 🟢 Fertig | J14: =MID(B14,FIND("-",B14)+1,FIND("-",B14,FIND("-",B14)+1)-FIND("-",B14)-1) -> U4
A15: 10 | B15: XL-U4-04 | C15: XL | D15: Analyse Umweltzustände | E15: 4.1 | F15: Hoch | G15: 🟢 Fertig | J15: =MID(B15,FIND("-",B15)+1,FIND("-",B15,FIND("-",B15)+1)-FIND("-",B15)-1) -> U4
A16: 11 | B16: FB-U4-01 | C16: FB | D16: Beschreibung der Organisation (Tätigkeiten, Produkte, Standorte) | E16: 4.1 | F16: Mittel | G16: 🟢 Fertig | J16: =MID(B16,FIND("-",B16)+1,FIND("-",B16,FIND("-",B16)+1)-FIND("-",B16)-1) -> U4
A17: 12 | B17: FB-U4-02 | C17: FB | D17: Lageplan Umweltmanagementsystem (Anlage zu RL-U4-01) | E17: 4.3 | F17: Mittel | G17: 🟢 Fertig | J17: =MID(B17,FIND("-",B17)+1,FIND("-",B17,FIND("-",B17)+1)-FIND("-",B17)-1) -> U4
A18: 13 | B18: VA-U4-01 | C18: VA | D18: Methodik der Kontextanalyse und Festlegung des Geltungsbereichs | E18: 4.1 / 4.2 / 4.3 | F18: Hoch | G18: 🟢 Fertig | J18: =MID(B18,FIND("-",B18)+1,FIND("-",B18,FIND("-",B18)+1)-FIND("-",B18)-1) -> U4
A19: 14 | B19: VA-U4-02 | C19: VA | D19: Interessierte Parteien | E19: 4.2 | F19: Hoch | G19: 🟢 Fertig | J19: =MID(B19,FIND("-",B19)+1,FIND("-",B19,FIND("-",B19)+1)-FIND("-",B19)-1) -> U4
A20: 15 | B20: XL-U4-05 | C20: XL | D20: Prozesssteckbriefregister | E20: 4.4 | F20: Mittel | G20: 🟢 Fertig | J20: =MID(B20,FIND("-",B20)+1,FIND("-",B20,FIND("-",B20)+1)-FIND("-",B20)-1) -> U4
A21: 16 | B21: XL-U4-06 | C21: XL | D21: Wechselwirkungsmatrix Prozesse | E21: 4.4 | F21: Mittel | G21: 🟢 Fertig | J21: =MID(B21,FIND("-",B21)+1,FIND("-",B21,FIND("-",B21)+1)-FIND("-",B21)-1) -> U4
A22: 17 | B22: XL-U4-07 | C22: XL | D22: Biodiversitäts- und Standortbewertung | E22: 4.1 / 6.1.2 | F22: Hoch | G22: 🟢 Fertig | J22: =MID(B22,FIND("-",B22)+1,FIND("-",B22,FIND("-",B22)+1)-FIND("-",B22)-1) -> U4
A23: 18 | B23: FB-U4-03 | C23: FB | D23: Erklärung zum Anwendungsbereich (Kurzfassung für interessierte Parteien) | E23: 4.3 | F23: Mittel | G23: 🟢 Fertig | J23: =MID(B23,FIND("-",B23)+1,FIND("-",B23,FIND("-",B23)+1)-FIND("-",B23)-1) -> U4
A24: KAP. U5 — Führung
A25: 19 | B25: PO-U5-01 | C25: PO | D25: Umweltpolitik (inkl. Broschüre für Stakeholder) | E25: 5.2 | F25: Hoch | G25: 🟢 Fertig | J25: =MID(B25,FIND("-",B25)+1,FIND("-",B25,FIND("-",B25)+1)-FIND("-",B25)-1) -> U5
A26: 20 | B26: FB-U5-01 | C26: FB | D26: Verantwortlichkeitsmatrix UMS | E26: 5.3 | F26: Hoch | G26: 🟢 Fertig | J26: =MID(B26,FIND("-",B26)+1,FIND("-",B26,FIND("-",B26)+1)-FIND("-",B26)-1) -> U5
A27: 21 | B27: FB-U5-02 | C27: FB | D27: Beauftragung Umweltmanagementbeauftragter / Vollmacht | E27: 5.3 | F27: Hoch | G27: 🟢 Fertig | J27: =MID(B27,FIND("-",B27)+1,FIND("-",B27,FIND("-",B27)+1)-FIND("-",B27)-1) -> U5
A28: 22 | B28: FB-U5-03 | C28: FB | D28: Stellenbeschreibung Umweltmanagementbeauftragter | E28: 5.3 | F28: Mittel | G28: 🟢 Fertig | J28: =MID(B28,FIND("-",B28)+1,FIND("-",B28,FIND("-",B28)+1)-FIND("-",B28)-1) -> U5
A29: 23 | B29: VA-U5-01 | C29: VA | D29: Führungsverantwortung, Erstellung und Überprüfung der Umweltpolitik | E29: 5.1 / 5.2 | F29: Hoch | G29: 🟢 Fertig | J29: =MID(B29,FIND("-",B29)+1,FIND("-",B29,FIND("-",B29)+1)-FIND("-",B29)-1) -> U5
A30: 24 | B30: XL-U5-01 | C30: XL | D30: Aufgabenmatrix UMS (RACI je Prozess) | E30: 5.3 | F30: Mittel | G30: 🟢 Fertig | J30: =MID(B30,FIND("-",B30)+1,FIND("-",B30,FIND("-",B30)+1)-FIND("-",B30)-1) -> U5
A31: 25 | B31: FB-U5-04 | C31: FB | D31: Pflichtenübertragung Umwelt | E31: 5.1 / 5.3 | F31: Hoch | G31: 🟢 Fertig | J31: =MID(B31,FIND("-",B31)+1,FIND("-",B31,FIND("-",B31)+1)-FIND("-",B31)-1) -> U5
A32: 26 | B32: FB-U5-05 | C32: FB | D32: Bestellung Betriebsbeauftragte Umwelt (Abfall, Gewässerschutz, Immissionsschutz) | E32: 5.3 / 6.1.3 | F32: Mittel | G32: 🟢 Fertig | J32: =MID(B32,FIND("-",B32)+1,FIND("-",B32,FIND("-",B32)+1)-FIND("-",B32)-1) -> U5
A33: 27 | B33: FB-U5-06 | C33: FB | D33: Bericht des Umweltmanagementbeauftragten an die Geschäftsführung | E33: 5.3 b) / 9.3.2 | F33: Mittel | G33: 🟢 Fertig | J33: =MID(B33,FIND("-",B33)+1,FIND("-",B33,FIND("-",B33)+1)-FIND("-",B33)-1) -> U5
A34: KAP. U6 — Planung
A35: 28 | B35: VA-U6-01 | C35: VA | D35: Bewertung von Umweltaspekten und -auswirkungen | E35: 6.1.2 | F35: Hoch | G35: 🟢 Fertig | J35: =MID(B35,FIND("-",B35)+1,FIND("-",B35,FIND("-",B35)+1)-FIND("-",B35)-1) -> U6
A36: 29 | B36: XL-U6-01 | C36: XL | D36: Umweltaspekte-Bewertungsmatrix (bedeutende Aspekte, normal/anormal/Notfall) | E36: 6.1.2 | F36: Hoch | G36: 🟢 Fertig | J36: =MID(B36,FIND("-",B36)+1,FIND("-",B36,FIND("-",B36)+1)-FIND("-",B36)-1) -> U6
A37: 30 | B37: VA-U6-02 | C37: VA | D37: Ermittlung bindender Verpflichtungen (rechtliche und andere Anforderungen) | E37: 6.1.3 | F37: Hoch | G37: 🟢 Fertig | I37: Überarbeitung Normrevision 2026: „Bindende Verpflichtungen“ umfassen gemäß A.6.1.3 bereits rechtliche und freiwillig übernommene Anforderungen; Titel angepasst (vorher: „Ermittlung bindender und anderer Verpflichtungen“). | J37: =MID(B37,FIND("-",B37)+1,FIND("-",B37,FIND("-",B37)+1)-FIND("-",B37)-1) -> U6
A38: 31 | B38: XL-U6-02 | C38: XL | D38: Rechtskataster Umwelt mit Gültigkeits-Ampel | E38: 6.1.3 | F38: Hoch | G38: 🟢 Fertig | J38: =MID(B38,FIND("-",B38)+1,FIND("-",B38,FIND("-",B38)+1)-FIND("-",B38)-1) -> U6
A39: 32 | B39: XL-U6-07 | C39: XL | D39: Genehmigungskataster | E39: 6.1.3 | F39: Mittel | G39: 🟢 Fertig | J39: =MID(B39,FIND("-",B39)+1,FIND("-",B39,FIND("-",B39)+1)-FIND("-",B39)-1) -> U6
A40: 33 | B40: XL-U6-08 | C40: XL | D40: Verpflichtungskataster | E40: 6.1.3 | F40: Mittel | G40: 🟢 Fertig | J40: =MID(B40,FIND("-",B40)+1,FIND("-",B40,FIND("-",B40)+1)-FIND("-",B40)-1) -> U6
...

Sheet Normabgleich 2026
A1: NORMABGLEICH – DIN EN ISO 14001:2026-06 GEGEN DOKUMENTENREGISTER (Stand 16.10.2026)
A2: Forderungen nach dokumentierter Information und wesentliche Änderungen der Ausgabe 2026 – Abdeckung durch die Dokumentenbibliothek U0–U10
A3: Abschnitt | B3: Forderung / Änderung (sinngemäß) | C3: Abdeckung im Register | D3: Ergebnis | E3: Folgeaktion
A4: 4.1 | B4: Externe/interne Themen einschließlich Umweltzuständen (Verschmutzung, Ressourcen, Klima, Biodiversität, Ökosystem) – neu ausdrücklich genannt | C4: XL-U4-01, XL-U4-02, XL-U4-03, XL-U4-04, XL-U4-07, VA-U4-01 | D4: Abgedeckt | E4: XL-U4-04 Titel → „Analyse Umweltzustände“
A5: 4.2 | B5: Interessierte Parteien, Anforderungen, Übernahme als bindende Verpflichtung | C5: VA-U4-02, XL-U4-01, XL-U6-08 | D5: Abgedeckt | E5: –
A6: 4.3 | B6: Anwendungsbereich als dokumentierte Information, für interessierte Parteien verfügbar | C6: RL-U4-01, FB-U4-02 | D6: Abgedeckt | E6: –
A7: 4.4 | B7: UMS mit Prozessen und Wechselwirkungen | C7: HB-U0-01, XL-U4-05, XL-U4-06 | D7: Abgedeckt | E7: –
A8: 5.1 / 5.3 | B8: Führung, Rollen, Verantwortlichkeiten, Befugnisse | C8: VA-U5-01, FB-U5-01 bis 03, XL-U5-01 | D8: Abgedeckt | E8: –
A9: 5.2 | B9: Umweltpolitik inkl. spezifischer Verpflichtungen (z. B. Klimaschutz/-anpassung, Biodiversität) – dokumentiert, bekanntgemacht, verfügbar | C9: PO-U5-01 | D9: Abgedeckt | E9: Inhalt auf Anmerkung zu 5.2 c) prüfen
A10: 6.1.1 | B10: Prozesse für 6.1.2 bis 6.1.5 im erforderlichen Umfang dokumentiert | C10: VA-U6-01, VA-U6-02, VA-U6-03, VA-U6-04 | D10: Abgedeckt | E10: –
A11: 6.1.2 | B11: Umweltaspekte/-auswirkungen, Kriterien, bedeutende Aspekte; Lebenswegbetrachtung; Notfallsituationen jetzt hier bestimmt | C11: VA-U6-01, XL-U6-01, XL-U8-04, FB-U8-05, XL-U8-06 | D11: Abgedeckt | E11: Terminologie „Lebensweg“; XL-U8-06 Kap.-Bezug 6.1.2
A12: 6.1.3 | B12: Bindende Verpflichtungen als dokumentierte Information | C12: VA-U6-02, XL-U6-02, XL-U6-07, XL-U6-08, FB-U6-01, FB-U6-05 | D12: Abgedeckt | E12: VA-U6-02 Titel anpassen
A13: 6.1.4 | B13: Risiken und Chancen (eigener Abschnitt, inkl. Einfluss externer Umweltzustände) dokumentiert | C13: VA-U6-03, XL-U6-03, XL-U4-03 | D13: Abgedeckt | E13: –
A14: 6.1.5 | B14: Planung von Maßnahmen, Integration, Wirksamkeitsbewertung | C14: XL-U6-09, FB-U6-03, FB-U6-04, XL-U6-05 | D14: Abgedeckt | E14: –
... A31: 10.2 | B31: Nichtkonformitäten, Korrekturmaßnahmen, Nachweis | C31: VA-U10-01, FB-U10-01, XL-U10-01 | D31: Abgedeckt | E31: –

Sheet Legende & Hinweise
B2: LEGENDE & HINWEISE
B4: Dokumenttyp | C4: Bedeutung
B5: VA | C5: Verfahrensanweisung
B6: PO | C6: Politik/Ziele
B7: CL | C7: Checkliste
B8: XL | C8: Excel-Tool
B9: FB | C9: Formular
B10: RL | C10: Richtlinie/Vorschrift
B11: HB | C11: Handbuch
B12: PPT | C12: Präsentation (Power Point Schulungsvorlage)
B14: Status | C14: Bedeutung
B15: 🔴 Offen | C15: Dokument noch nicht erstellt
B16: 🟡 In Arbeit | C16: Erstellung / Abstimmung läuft
... B18: ⚪ Nicht relevant | C18: Für diesen Betrieb nicht zutreffend (z. B. kein eigener Fuhrpark)
B20: Nummernschema
B21: [Typ]-U[ISO-Kap.]-[lfd. Nr.], z. B. VA-U6-01 = Verfahrensanweisung, Kapitel 6 (Planung), laufende Nummer 01. Das vorangestellte „U“ (Umwelt) unterscheidet diesen Nummernkreis vom bestehenden IFS-Food-Register und verhindert Kollisionen. Kapitel U0 = übergeordnete, kapitelübergreifende Systemdokumente (Handbuch, Umstellungs- und Implementierungswerkzeuge).
